Workbook
Name bbStatus: #REF!
Name bbStatus: #REF!

Sheet Work Request numbers and descr.
E1: GS1 data pool - Data attributes do-it-yourself, garden and pets
E2: Work Request numbers and descriptions | J2: =CHAR(160)
A3: =COLUMN() -> 1 | B3: =COLUMN() -> 2 | C3: =COLUMN() -> 3 | D3: =COLUMN() -> 4 | E3: =COLUMN() -> 5 | F3: =COLUMN() -> 6 | G3: =COLUMN() -> 7
A4: Sprint sessie | B4: Datum | C4: WR nr | D4: Submitter | E4: Description NL | F4: Description ENG | G4: Status
C5: CHANGE-4500 | D5: GS1 Benelux | E5: Diverse kleine wijzigingen (Typo's e.d.) onder mandaat doorvoeren voor release 3.1.35. | F5: By mandate changes release 3.1.35. | G5: Af
C6: CHANGE-4508 | D6: GS1 Benelux | E6: Toevoegen FR vertalingen GPC Mei 2025 Publicatie. | F6: Add FR Translation GPC May 2025 Publication. | G6: Af
C7: CHANGE-4460 | D7: GS1 Benelux | E7: Doorvoeren wijzigingen als gevolg van GDSN codelijst wijzigingen voor de Mei 2026 release (3.1.35). | F7: Implement GDSN Codelist changes May 2026 release (3.1.35). | G7: Af
C8: CHANGE-4462 | D8: GS1 Benelux | E8: Doorvoeren wijzigingen als gevolg van GDSN attribuut wijzigingen voor de Mei 2026 release (3.1.35). | F8: Implement GDSN Attribute changes May 2026 release (3.1.35). | G8: Af
C9: CHANGE-4469 | D9: GS1 Benelux | E9: Doorvoeren wijzigingen in GPC namen en definities als gevolg van de GPC November 2025 publicatie voor de Mei 2026 release (3.1.35). | F9: Implement new GPC November 2025 Publication for the May 2026 release (3.1.35). | G9: Af
C10: CHANGE-4499 | D10: Procter & Gamble | E10: Toevoegen / wijzigen codelijsten met Stibat codes. | F10: Update Codelists for Stibat. | G10: Af
C11: CHANGE-4545 | D11: Varo | E11: Wijzigen / toeveogen attributen in GPC brick 10003486 'Doe-het-zelf Scharen (Niet-Aangedreven) '. | F11: Update GPC brick 10003486 'Heavy-Duty Shears (Non Powered) '. | G11: Af
C12: CHANGE-4571 | D12: LightMakers B.V. | E12: Toevoegen hout attributen in GPC brick 10005636 'Lampstandaards/Voetstukken'. | F12: Add the wood attributes to brick 10005636 'Lampstands/Bases'. | G12: Af
C13: CHANGE-4569 | D13: GS1 Netherlands | E13: Toevoegen attribuut 7.252 'Oorsprong van hout' aan GPC brick '10005253 Zwembad/Vijver/Waterpartij Benodigdheden/Accessoires/Gereedschappen'. | F13: Add 7.252 'Origin of wood'to GPC brick 10005253 'Pool/Pond/Water Feature Supplies/Accessories/Tools'. | G13: Af
C14: CHANGE-4567 | D14: Dijk Natural Collections | E14: Toevoegen hout attributen aan GPC brick 10002240 'Schilderijen'. | F14: Add the wood attributes to brick 10002240 'Paintings'. | G14: Af
C15: CHANGE-4566 | D15: Varo | E15: Wijzigen naar optioneel voor attribuut 8.429 'Indicator oplaadbaar' in GPC brick 10005642 'Fakkels/Lantaarns/Zaklampen (Aangedreven)'. | F15: Change attribute 8.429 'Rechargeable indicator' to optional for GPC brick 10005642 'Torches/Lanterns/Flashlights (Powered)'. | G15: Af
C16: CHANGE-4542 | D16: GS1 Benelux | E16: Corrigeren attribuutdefinitie voor attribuut 0.163 'Gemiddelde levensduur'. | F16: Correct attributedefinition for attribute 0.163 'Averagelife'. | G16: Af
... C39: CHANGE-4519 | D39: Varo | E39: Activeren GPC brick 10003787 'Beitels/Gutsen - Assortimenten'. | F39: Activate GPC brick 10003787 Chisels/Gouges Variety Packs | G39: Af

Sheet Fielddefinitions
D1: GS1 data pool - Data attributes do-it-yourself, garden and pets
D2: Field definitions
B3: 2 | C3: 3 | D3: 4 | E3: 5 | F3: 6 | G3: 7 | H3: 8 | I3: 9 | J3: 10 | K3: 11 | L3: 12 | M3: 13 | N3: 14 | O3: 15 | P3: 16 | Q3: 17 | R3: 18 | S3: 19 | T3: 20 | U3: 21 | V3: 22 | W3: 23 | X3: 24 | Y3: 25 | Z3: 26 | AB3: 28 | AC3: 29 | AD3: 30 | AE3: 31 | AF3: 32 | AG3: 33 | AH3: 34 | AI3: 35 | AJ3: 36 | AK3: 37 | AL3: 38 | AM3: 39 | AN3: 40 | AO3: 41
A4: FieldID | B4: FieldID replaced by | C4: FieldID deprecation date | D4: Attributename Dutch | E4: Definition Dutch | F4: Instruction Dutch | G4: Remark(s) Dutch | H4: Format | I4: Min Len | J4: Max Len | K4: Deci- mals | L4: Example | M4: UoM fixed | N4: Picklist ID | O4: Repeat | P4: Mand GDSN | Q4: Mand Funct | R4: Depen-dency | S4: Version | T4: GDSN name | U4: Attributename English | V4: Definition English | W4: Instruction English | X4: Remark(s) English | Y4: Attribute Category | Z4: XML Path | AA4: NA | AB4: Multi lingual | AC4: GDSN/ FREE? | AD4: Sort | AE4: Fixed or Commercial Field | AF4: Group | AG4: Group Repeat | AH4: Attributename French | AI4: Definition French | AJ4: Instruction French | AK4: Remark(s) French | AL4: Dependant field mandatory | AM4: BMS-ID | AN4: Validation-ID | AO4: Changed in this version
A5: 0.111 | D5: Code verpakkingstype | E5: Code die het type verpakking aangeeft. | F5: Bepaal de hoofdverpakkingselementen waaruit de verpakking van het product bestaat en benoem deze met een ‘specifiek’ verpakkingstype uit de codelijst. Zie online handleiding voor een beschrijving van de codes: - GS1 Belu: https://www.gs1belu.org/nl/documentatie/richtlijnen-keuze-verpakkingstype - GS1 NL: https://www.gs1.nl/kennisbank/gs1-data-source/levensmiddelen-drogisterij/codelijsten/codes-voor-verpakkingstypes/ Een hoofdverpakkingselement is dat deel van de verpakking dat - het product zijn vorm geeft; - het grootste verpakkingselement rondom het product is; - het overgrote deel van de productinformatie en afbeeldingen bevat; - essentieel is voor het behoud van de integriteit van het product. Bepaal tevens de verpakkingselementen die deel uitmaken van de geïdentificeerde hoofverpakkingselementen en hiervan door de consument (tijdens het gebruik en of aanbieding tot verwerking) of tijdens het post consumer verwerkingsproces (vb.: recyclage) gescheiden kunnen worden. Ken aan elk van deze verpakkingselementen de verpakkingstypecode 'PUG' (Verpakt, geen specificatie) toe. Voorbeeld 1: Chips verpakt in een zak. De zak is het enige hoofdverpakkingselement. Er zijn geen andere verpakkingselementen die deel uitmaken van de zak en hiervan door de consument of tijdens het post consumer verwerkingsproces gescheiden kunnen worden. Voorbeeld 2: Frisdrank verpakt in een fles met een dop en een label. De fles is het enige hoofdverpakkingselement. De dop en het label zijn verpakkingselementen die deel uitmaken van de fles en hiervan door de consument (vb. dop) of tijdens het post consumer verwerkingsproces (vb.: label) gescheiden kunnen worden. Voorbeeld 3: Tandpasta verpakt in een tube met een dop erop en een afsluitfolie die vervolgens verpakt wordt in een doos met folie eromheen. De tube en de doos zijn hoofdverpakkingselementen. De dop en de afsluitfolie zijn verpakkingselementen die deel uitmaken van de tube en hiervan door de consument gescheiden kunnen worden. De folie is een verpakkingselement dat deel uitmaakt van de doos en hiervan door de consument gescheiden kan worden. Als je de code 'CR' in dit veld invult, vul dan ook het veld 'Indicator emballageartikel/herbruikbaar artikel' (isPackagingMarkedReturnable) in. | H5: Picklist | I5: 1 | J5: 3 | L5: BX | N5: PackageTypeCode_GDSN | P5: No | Q5: Yes | S5: 6.0.2 | T5: packagingTypeCode | U5: Packaging type code | V5: Code indicating the type of packaging. | W5: Determine the main packaging elements that make up the product’s packaging and assign to each of them a specific packaging type from the code list. See the online manual for a description of the codes: - GS1 Belu: https://www.gs1belu.org/nl/documentatie/richtlijnen-keuze-verpakkingstype - GS1 NL: https://www.gs1.nl/kennisbank/gs1-data-source/levensmiddelen-drogisterij/codelijsten/codes-voor-verpakkingstypes/ A main packaging element is that part of the packaging which - gives the product its structural form or shape - is the largest packaging element around the product; - contains the bulk of the trade item's information and imaging - is essential for the preservation of the products integrity Also determine the packaging elements that are part of the identified main packaging elements and which can be separated from them by the consumer (during use and/or disposal) or during the post-consumer processing phase (e.g., recycling). Assign to each of these packaging elements the packaging type code 'PUG' (Packed, unspecified). Example 1: Chips packed in a bag. The bag is the only main packaging element. There are no other packaging elements that are part of the bag and can be separated from it by the consumer or during the post-consumer processing phase. Example 2: Soft drink packed in a bottle with a cap and a label. The bottle is the only main packaging element. The cap and the label are packaging elements that are part of the bottle and can be separated from it by the consumer (e.g., cap) or during the post-consumer processing phase (e.g., label). Example 3: Toothpaste packed in a tube with a cap and a sealing foil, which is then packed in a box with shrink film around it. The tube and the box are main packaging elements. The cap and the sealing foil are packaging elements that are part of the tube and can be separated from it by the consumer. The shrink film is a packaging element that is part of the box and can be separated from it by the consumer. If you fill in the code 'CR' in this field, then also fill in the 'Packaging marked returnable indicator' (isPackagingMarkedReturnable) field. | Y5: Packaging | Z5: /catalogue_item_notification:catalogueItemNotificationMessage/transaction/documentCommand/catalogue_item_notification:catalogueItemNotification/catalogueItem/tradeItem/tradeItemInformation/extension/*[namespace-uri()='urn:gs1:gdsn:packaging_information:xsd:3' and local-name()='packagingInformationModule']/packaging/packagingTypeCode | AC5: GDSN | AD5: S0024 | AE5: FF | AF5: 0.111 | AG5: 999 | AH5: Code du type d’emballage | AI5: Code indiquant le type d'emballage. | AJ5: Déterminez les éléments d’emballage principaux qui composent l’emballage du produit et identifiez-les à l’aide d’un type d’emballage spécifique issu de la liste de codes. Consultez le manuel en ligne pour une description des codes : - GS1 Belu : Directives choix type d’emballage | GS1 Belgium & Luxembourg - GS1 NL : https://www.gs1.nl/kennisbank/gs1-data-source/levensmiddelen-drogisterij/codelijsten/codes-voor-verpakkingstypes/ Un élément d’emballage principal est la partie de l’emballage qui : - donne sa forme au produit ; - constitue l’élément d’emballage le plus grand autour du produit ; - contient la grande majorité des informations produit et des visuels ; - est essentielle au maintien de l’intégrité du produit. Déterminez également les éléments d’emballage qui font partie des éléments d’emballage principaux identifiés et qui peuvent en être séparés par le consommateur (lors de l’utilisation et/ou de la mise à disposition pour le traitement) ou lors du processus de traitement post-consommation (par exemple : recyclage). Attribuez à chacun de ces éléments d’emballage le code de type d’emballage ‘PUG’ (Emballé, pas de spécification). Exemple 1 : Chips emballées dans un sachet. Le sachet est le seul élément d’emballage principal. Il n’existe pas d’autre élément d’emballage faisant partie du sachet et pouvant en être séparé par le consommateur ou lors du processus de traitement post-consommation. Exemple 2 : Boisson rafraîchissante emballée dans une bouteille avec un bouchon et une étiquette. La bouteille est le seul élément d’emballage principal. Le bouchon et l’étiquette sont des éléments d’emballage faisant partie de la bouteille et pouvant en être séparés par le consommateur (p. ex. le bouchon) ou lors du processus de traitement post-consommation (p. ex. l’étiquette). Exemple 3 : Dentifrice emballé dans un tube avec un bouchon et un film de scellage, puis emballé dans une boîte entourée d’un film. Le tube et la boîte sont des éléments d’emballage principaux. Le bouchon et le film de scellage sont des éléments d’emballage faisant partie du tube et pouvant en être séparés par le consommateur. Le film est un élément d’emballage faisant partie de la boîte et pouvant en être séparé par le consommateur. Si vous renseignez le code ‘CR’ dans ce champ, veuillez également compléter le champ ‘Indicateur d'article d'emballage/article réutilisable ‘ (isPackagingMarkedReturnable). | AM5: 2186 | AO5: CHANGE-4114
A6: 0.136 | D6: Classificatie verpakkingsmateriaal | E6: Identificeert de classificatie van het verpakkingsmateriaal dat in elke verpakkingscomponent wordt gebruikt. Er wordt aangenomen dat de classificatie van een verpakkingsmateriaal een bredere materiaalgroep is waar andere verpakkingsmaterialen onder passen zoals geclassificeerd door een specifiek bureau. Deze eigenschap wordt ingevuld door een lokale codelijst. | F6: Geef voor alle enkelvoudige polymeer verpakkingsmaterialen (POLYMER …) en alle samengestelde verpakkingsmaterialen (COMPOSITE of LAMINATED_CARTON) die minstens één polymeer‑materiaalcomponent bevatten aan of deze vormvast [RIGID] of flexibel [FLEXIBLE]zijn. Gebruik tevens het veld ‘Classificatie samengesteld verpakkingsmateriaal’ om aan te geven of de afzonderlijke polymere materiaalcomponenten van het samengestelde verpakkingsmateriaal vormvast [RIGID] of flexibel [FLEXIBLE] zijn. Voorbeeld: enkelvoudig polymeer verpakkingsmateriaal * Code verpakkingstype: BO (fles) * Code verpakkingsmateriaal: POLYMER_PE (Polyethyleen (PE)) * Classificatie verpakkingsmateriaal: RIGID Voorbeeld: samengesteld verpakkingsmateriaal met een polymere materiaalcomponent * Code verpakkingstype: BG (zak) * Code verpakkingsmateriaal: COMPOSITE * Classificatie verpakkingsmateriaal: FLEXIBLE * Samengesteld verpakkingsmateriaal - Code verpakkingsmateriaal: POLYMER_PE (Polyethyleen (PE)) * Classificatie samengesteld verpakkingsmateriaal: FLEXIBLE * Samengesteld verpakkingsmateriaal - Code verpakkingsmateriaal: METAL_ALUMINIUM (Aluminium) | G6: Verplicht als het attribuut 'Code verpakkingsmateriaal' een POLYMER bevat of als het attribuut 'Code verpakkingsmateriaal' de codes 'COMPOSITE' of 'LAMINATED_CARTON' bevat en het attribuut 'Samengesteld verpakkingsmateriaal - Code verpakkingsmateriaa'l minstens 1 maal een POLYMER bevat. | H6: Picklist | I6: 1 | J6: 80 | L6: RIGID | N6: NL_PackagingMaterialClassificationCodeReferencecodeList | P6: No | S6: 3.1.27 | T6: packagingMaterialClassificationCodeReference | U6: Packaging material classification code reference | V6: Identifies the packing material classification used in each packaging component. It is assumed that a packaging material classification would be a broader material grouping that other packaging materials would fit under as classified by a specific agency. This attribute is populated by local code lists. | W6: For all single polymer packaging materials (POLYMER …) and all composite packaging materials (COMPOSITE or LAMINATED_CARTON) containing at least one polymer material component, indicate whether they are rigid [RIGID] or flexible [FLEXIBLE]. Also use the field ‘Composite material detail packaging material classification code’ to indicate whether the individual polymer material components of the composite packaging material, are rigid [RIGID] or flexible [FLEXIBLE]. Example: single polymeric packaging material * Packaging type code: BO (bottle) * Packaging material type code: POLYMER_PE (Polyethylene (PE)) * Packaging material classification code: RIGID Example: composite packaging material with a polymeric material component * Packaging type code: BG (bag). * Packaging material code: COMPOSITE * Packaging material classification code: FLEXIBLE * Composite material detail packaging material type code: POLYMER_PE (Polyethylene (PE)) * Composite material detail packaging material classification code: FLEXIBLE * Composite material detail packaging material type code: METAL_ALUMINIUM (Aluminium) | X6: Mandatory if the field 'Packaging material type code' contains a POLYMER or if 'Packaging material type code' equals 'COMPOSITE" or 'LAMINATED_CARTON' and 'Composite material detail packaging material type code' contains at least one POLYMER. | Y6: Packaging | Z6: /catalogue_item_notification:catalogueItemNotificationMessage/transaction/documentCommand/catalogue_item_notification:catalogueItemNotification/catalogueItem/tradeItem/tradeItemInformation/extension/*[namespace-uri()='urn:gs1:gdsn:packaging_information:xsd:3' and local-name()='packagingInformationModule']/packaging/packagingMaterial/packagingMaterialClassificationCodeReference | AC6: GDSN | AD6: S0026.10 | AE6: FF | AF6: 0.114 | AG6: 999 | AH6: Classification du matériau d'emballage | AI6: Identifie la classification du matériau d'emballage utilisé dans chaque composant de l'emballage. On suppose que la classification des matériaux d'emballage correspond à un groupe de matériaux plus large dans lequel s'inscrivent les autres matériaux d'emballage classés par une agence spécifique. Cet attribut est alimenté par des listes de codes locaux. | AJ6: Pour tous les matériaux d’emballage monocomposant en polymère (POLYMER …) et pour les matériaux d’emballage composites (COMPOSITE ou LAMINATED_CARTON) contenant au moins un composant en matériau polymère, indiquez si cuex-ci sont rigide [RIGID] ou flexible [FLEXIBLE]. Utilisez également le champ 'Classification du matériau d'emballage composite' pour indiquer si les composants polymères individuels du matériau d’emballage composite sont rigides [RIGID] ou flexibles [FLEXIBLE]. Exemple: matériau mono en polymère * Code du type d’emballage : BO (bouteille) * Code du matériau d’emballage : POLYMER_PE (Polyéthylène (PE)) * Classification du matériau d’emballage : RIGID Exemple: matériau composite avec un composant en matériau polymère * Code du type d’emballage : BG (sachet) * Code du matériau d’emballage : COMPOSITE * Classification du matériau d’emballage : FLEXIBLE * Matériau d’emballage composite : Code du matériau d’emballage: POLYMER_PE (Polyéthylène (PE)) * Classification du matériau d’emballage composite : FLEXIBLE * Matériau d’emballage composite : Code du matériau d’emballage : METAL_ALUMINIUM (Aluminium) | AK6: Si le champ 'Code de matériau d'emballage' est un POLYMER ou si l'attribut 'Code de matériau d'emballage' est rempli avec le code 'COMPOSITE' ou 'LAMINATED_CARTON' et 'Matériau d’emballage composite : Code du matériau d'emballage' contient au moins 1 POLYMER. | AM6: 2220 | AO6: CHANGE-4111
A7: 0.137 | D7: Samengesteld verpakkingsmateriaal - Classificatie verpakkingsmateriaal | E7: Identificeert de classificatie van het verpakkingsmateriaal dat in elke verpakkingscomponent wordt gebruikt. Er wordt aangenomen dat de classificatie van een verpakkingsmateriaal een bredere materiaalgroep is waar andere verpakkingsmaterialen onder passen zoals geclassificeerd door een specifiek bureau. Deze eigenschap wordt ingevuld door een lokale codelijst. | F7: Geef voor alle polymeer materiaalcomponenten (POLYMER …) van een samengesteld verpakkingsmateriaal aan of deze vormvast [RIGID] of flexibel [FLEXIBLE] zijn. Gebruik tevens het veld ‘Classificatie verpakkingsmateriaal’ om aan te geven of het samengestelde verpakkingsmateriaal zelf vormvast [RIGID] of flexibel [FLEXIBLE] is. Voorbeeld: samengesteld verpakkingsmateriaal met een polymere materiaalcomponent * Code verpakkingstype: BG (zak) * Code verpakkingsmateriaal: COMPOSITE * Classificatie verpakkingsmateriaal: FLEXIBLE * Samengesteld verpakkingsmateriaal - Code verpakkingsmateriaal: POLYMER_PE (Polyethyleen (PE)) * Classificatie samengesteld verpakkingsmateriaal: FLEXIBLE * Samengesteld verpakkingsmateriaal - Code verpakkingsmateriaal: METAL_ALUMINIUM (Aluminium) | G7: Verplicht als het veld 'Samengesteld verpakkingsmateriaal - Code verpakkingsmateriaal' een POLYMER is. | H7: Picklist | I7: 1 | J7: 80 | L7: RIGID | N7: NL_PackagingMaterialClassificationCodeReferencecodeList | P7: No | S7: 3.1.27 | T7: packagingMaterialClassificationCodeReference | U7: Packaging composite material classification code reference | V7: Identifies the packing material classification used in each packaging component. It is assumed that a packaging material classification would be a broader material grouping that other packaging materials would fit under as classified by a specific agency. This attribute is populated by local code lists. | W7: For all polymer material components (POLYMER …) of a composite packaging material, indicate whether they are rigid [RIGID] or flexible [FLEXIBLE]. Also use field ‘Packaging material classification code’ to indicate whether the composite packaging material itself is rigid [RIGID] or flexible [FLEXIBLE]. Example: composite material with a polymer material component * Packaging type code: BG (bag). * Packaging material code: COMPOSITE * Packaging material classification code: FLEXIBLE * Composite material detail packaging material type code: POLYMER_PE (Polyethylene (PE)) * Composite material detail packaging material classification code: FLEXIBLE * Composite material detail packaging material type code: METAL_ALUMINIUM (Aluminium) | X7: Mandatory if the field 'Composite material detail packaging material type code' is populated with a POLYMER. | Y7: Packaging | Z7: /catalogue_item_notification:catalogueItemNotificationMessage/transaction/documentCommand/catalogue_item_notification:catalogueItemNotification/catalogueItem/tradeItem/tradeItemInformation/extension/*[namespace-uri()='urn:gs1:gdsn:packaging_information:xsd:3' and local-name()='packagingInformationModule']/packaging/packagingMaterial/compositeMaterialDetail/packagingMaterialClassificationCodeReference | AC7: GDSN | AD7: S0026.11 | AE7: FF | AF7: 0.119 | AG7: 999 | AH7: Classification du matériau d'emballage composite | AI7: Identifie la classification du matériau d'emballage utilisé dans chaque composant de l'emballage. On suppose que la classification des matériaux d'emballage correspond à un groupe de matériaux plus large dans lequel s'inscrivent les autres matériaux d'emballage classés par une agence spécifique. Cet attribut est alimenté par des listes de codes locaux. | AJ7: Pour tous les composants en matériau polymère (POLYMER …) d’un matériau d’emballage composite, indiquez si cuex-ci sont rigide [RIGID] ou flexible [FLEXIBLE]. Utilisez également le champ ' Classification du matériau d’emballage ' pour indiquer si le matériau d’emballage composite lui‑même est rigide [RIGID] ou flexible [FLEXIBLE]. Exemple: matériau composite avec un composant en matériau polymère * Code du type d’emballage : BG (sachet) * Code du matériau d’emballage : COMPOSITE * Classification du matériau d’emballage : FLEXIBLE * Matériau d’emballage composite : Code du matériau d’emballage: POLYMER_PE (Polyéthylène (PE)) * Classification du matériau d’emballage composite : FLEXIBLE * Matériau d’emballage composite : Code du matériau d’emballage : METAL_ALUMINIUM (Aluminium) | AK7: Si le champ 'Code de matériau d'emballage composite' est un POLYMER. | AM7: 2242 | AO7: CHANGE-4111
A8: 0.114 | D8: Code verpakkingsmateriaal | E8: De materialen die voor de verpakking van het artikel zijn gebruikt, bijvoorbeeld glas of kunststof. Deze materiaalinformatie kan door data-afnemers worden gebruikt voor: - Berekening van belastingen/bijdragen/accijnzen. - Berekening/schatting van koolstofvoetafdruk (optimalisatie van hulpbronnen). - Het bepalen van het gebruikte materiaal. | F8: Bepaal voor elke verpakkingselement uit welke materialen het bestaat. Dit kunnen enkelvoudige (mono) of samengestelde (composiet) materialen zijn. Een samengesteld materiaal is een materiaal dat bestaat uit twee of meer verschillende materialen die, wanneer ze worden gecombineerd, eigenschappen hebben die verschillen van de afzonderlijke componenten. Deze afzonderlijke componenten kunnen niet mechanisch van elkaar gescheiden worden. Als het verpakkingselement bestaat uit een enkelvoudig materiaal, selecteer dan een specifiek verpakkingsmateriaal uit de codelijst. Gebruik de codes ‘PLASTIC_BIO_PLASTIC’, ‘PLASTIC_OTHER’ of ‘PLASTIC_THERMOPLASTICS’ niet. Gebruik in plaats daarvan één van de POLYMER-codes. Als het verpakkingselement uit een samengesteld materiaal bestaat, selecteer dan code ‘COMPOSITE’. Voor drankkartons selecteer je in dat geval code ‘LAMINATED_CARTON’. Gebruik het veld ‘Samengesteld verpakkingsmateriaal - Code verpakkingsmateriaal’ om de verschillende materiaalcomponenten waaruit het samengestelde materiaal bestaat, te specificeren. Voorbeeld: enkelvoudig (mono) materiaal * Code verpakkingstype: BO (fles) * Code verpakkingsmateriaal: POLYMER_PE (Polyethyleen (PE)) Voorbeeld: samengesteld (composiet) materiaal * Code verpakkingstype: BG (zak) * Code verpakkingsmateriaal: COMPOSITE * Samengesteld verpakkingsmateriaal - Code verpakkingsmateriaal: POLYMER_PE (Polyethyleen (PE)) * Samengesteld verpakkingsmateriaal - Code verpakkingsmateriaal: METAL_ALUMINUM (Aluminium) Green-Score: Indien GDSN wordt gebruikt om productinformatie te delen die vereist is om de ecoscore van producten te berekenen overeenkomstig de “Green-Score”-methodologie van het “Green-Score Collective”, moet de standaardinformatie die vereist is op de verpakking van de consumenteneenheid zoals die in het schap wordt weergegeven, worden verstrekt overeenkomstig de huidige instructies. In aanvulling op de huidige instructies moet het attribuut “Packaging Material Type Code” worden gebruikt om het materiaaltype te specificeren voor alle verpakkingstypes die worden vermeld in “Packaging Type Code”. Als de “Code soort verpakkingsmateriaal” gelijk is aan “COMPOSITE” of “LAMINATED_CARTON”, gebruik dan het attribuut “Samengestelde verpakking: Code verpakkingstype” om het type verpakkingsmateriaal te definiëren. Raadpleeg de 'Handleiding aanlevering Green-score gerelateerde product informatie' voor meer informatie over het delen van Green-score relevante productinformatie in GDSN: https://www.gs1belu.org/nl/documentatie/handleiding-aanlevering-Green-score-gerelateerde-product-informatie | H8: Picklist | I8: 1 | J8: 80 | L8: GLASS | N8: PackagingMaterialTypeCode | P8: No | S8: 9.4.0 | T8: packagingMaterialTypeCode | U8: Packaging material type code | V8: The materials used for the packaging of the trade item, for example glass or plastic. This material information can be used by data recipients for: - Tax calculations/fees/duties calculation - Carbon footprint calculations/estimations (resource optimisation) - To determine the material used | W8: For each packaging element, determine what materials it is made of. This can be single (mono) or composite materials. A composite material is a material that is made of two or more different materials when combined, produce a material with characteristics different from the individual components. These individual components cannot be separated mechanically. If the packaging element consists of a single material, select a specific packaging material type from the code list. Do not use codes ‘PLASTIC_BIO_PLASTIC’, ‘PLASTIC_OTHER’ or ‘PLASTIC_THERMOPLASTICS’. Instead, use one of the POLYMER codes. If the packaging element consists of a composite material, select code ‘COMPOSITE’. For beverage cartons, select ‘LAMINATED_CARTON’. Use the field ‘Composite material detail packaging material type code’ to specify the different material components the composite material is made of. Example: single (mono) material * Packaging type code: BO (bottle) * Packaging material type code: POLYMER_PE (Polyethylene (PE)) Example: composite material * Packaging type code: BG (bag) * Packaging material type code: COMPOSITE * Composite material detail packaging material type code: POLYMER_PE (Polyethylene (PE) * Composite material detail packaging material type code: METAL_ALUMINUM (Aluminium) Green-score: In case GDSN is used to share product information required to calculate the products Green-score in line with the 'Green-score' methodology of 'Green-score Collective', standard required packaging info of the consumer unit as presented on shelf needs to be supplied in line with current instructions. In addition to the current instructions field “Packaging material type code” needs to be used to specify the material type for all packaging types listed in ' Packaging type code '. In case “Packaging material type code” equals 'COMPOSITE' or 'LAMINATED_CARTON' use field “Composite material detail packaging material type code” to define the packaging material type. For more information on how to share Green-score relevant information+F26 in GDSN check out 'Manual on delivery of Green-score related product information': https://www.gs1belu.org/en/documentation/manual-delivery-green-score-related-product-information | Y8: Packaging | Z8: /catalogue_item_notification:catalogueItemNotificationMessage/transaction/documentCommand/catalogue_item_notification:catalogueItemNotification/catalogueItem/tradeItem/tradeItemInformation/extension/*[namespace-uri()='urn:gs1:gdsn:packaging_information:xsd:3' and local-name()='packagingInformationModule']/packaging/packagingMaterial/packagingMaterialTypeCode | AC8: GDSN | AD8: S0026.2 | AE8: FF | AF8: 0.114 | AG8: 999 | AH8: Code de matériau d'emballage | AI8: Les matériaux utilisés pour l'emballage de l'article, par exemple du verre ou du plastique. Ces informations de matériaux peuvent être utilisées par des collecteurs de données pour: - Le calcul d'impôts/taxes/accises. - Le calcul/l'estimation de l'empreinte carbone (optimisation des ressources). - La détermination du matériau utilisé. | AJ8: Pour chaque élément d’emballage, déterminez de quels matériaux il est constitué. Il peut s’agir de matériaux monocomposants (mono) ou de matériaux composites. Un matériau composite est un matériau constitué de deux ou plusieurs matériaux différents qui, une fois combinés, présentent des caractéristiques différentes de celles des composants individuels. Ces composants ne peuvent pas être séparés mécaniquement. Si l’élément d’emballage est composé d’un mono matériau, sélectionnez un code spécifique de matériau d’emballage dans la liste de codes. N’utilisez pas les codes 'PLASTIC_BIO_PLASTIC', 'PLASTIC_OTHER' ou 'PLASTIC_THERMOPLASTICS'. Utilisez l’un des codes POLYMER. Si l’élément d’emballage est constitué d’un matériau composite, sélectionnez le code 'COMPOSITE'. Pour les cartons pour boissons, sélectionnez 'LAMINATED_CARTON'. Utilisez le champ 'Matériau d’emballage composite : Code du matériau d’emballage' pour spécifier les différents composants dont se compose le matériau composite. Exemple: matériau mono * Code du type d’emballage: BO (Bouteille) * Code de matériau d’emballage: POLYMER_PE (Polyéthylène (PE)) Exemple: matériau composite * Code du type d’emballage: BG (sachet) * Code de matériau d’emballage: COMPOSITE * Matériau d’emballage composite : Code du matériau d’emballage: POLYMER_PE (Polyéthylène (PE)) * Matériau d’emballage composite : Code du matériau d’emballage: METAL_ALUMINUM (Aluminium) Green-Score: Si GDSN est utilisé pour partager les informations des produits nécessaires au calcul de l'écoscore des produits conformément à la méthodologie 'Green-Score' du 'Collectif Green-Score', les informations standard requises sur l'emballage de l'unité consommateur telle que présentée en rayon doivent être fournies conformément aux instructions actuelles. En plus des instructions actuelles, l'attribut 'Code de type de matériau d'emballage' doit être utilisé pour spécifier le type de matériau pour tous les types d'emballage énumérés dans 'Code du type d'emballage'. Si le 'Code de type de matériau d'emballage' est égal à 'COMPOSITE' ou 'LAMINATED_CARTON', utilisez l'attribut 'Emballage composite: Code de type d'emballage' pour définir le type de matériau d'emballage. Pour plus d'informations sur la manière de partager les informations relatives au Green-score dans le GDSN, consultez 'Manuel consacré à la fourniture des informations produits relatives au Green-score': https://www.gs1belu.org/fr/documentation/manuel-consacre-la-fourniture-des-informations-produits-relatives-au-green-score | AM8: 2206 | AO8: CHANGE-4107
A9: 0.115 | D9: Verpakkingsmateriaal dikte | E9: De dikte van het verpakkingsmateriaal. | F9: Voor alle enkelvoudige aluminium verpakkingsmaterialen (METAL_ALUMINUM) moet de dikte van het verpakkingsmateriaal worden opgegeven. Voorbeeld: enkelvoudig aluminium verpakkingsmateriaal * Code verpakkingstype: CNG (Blik) * Code verpakkingsmateriaal: METAL_ALUMINUM (Aluminium) * Verpakkingsmateriaal dikte: 100 * Eenheid materiaaldikte: 4H (Micrometer) Voor samengestelde verpakkingsmaterialen (COMPOSITE of LAMINATED_CARTON) die aluminium materiaalcomponenten (METAL_ALUMINUM) bevatten met een gewicht dat minimaal 50% van het totale gewicht van het samengestelde verpakkingsmateriaal bedraagt, moet de dikte van het verpakkingsmateriaal worden opgegeven. Het is aan te raden ook het veld ‘Samengesteld verpakkingsmateriaal – Materiaaldikte’ te gebruiken om de dikte van de afzonderlijke aluminium materiaalcomponenten van het samengestelde verpakkingsmateriaal op te geven. Voorbeeld: samengesteld verpakkingsmateriaal met een aluminium materiaalcomponent * Code verpakkingstype: BG (zak) * Code verpakkingsmateriaal: COMPOSITE * Verpakkingsmateriaal dikte: 120 * Eenheid materiaaldikte: 4H (Micrometer) * Samengesteld verpakkingsmateriaal - Code verpakkingsmateriaal: POLYMER_PE (Polyethyleen (PE)) * Samengesteld verpakkingsmateriaal - Code verpakkingsmateriaal:METAL_ALUMINUM (Aluminium) * Samengesteld verpakkingsmateriaal - Materiaaldikte: 100 * Samengesteld verpakkingsmateriaal - Eenheid materiaaldikte: 4H (Micrometer) De aanbevolen meeteenheid voor het opgeven van de dikte van het materiaal is micrometer (4H). | G9: Verplicht als 'Code verpakkingsmateriaal' gelijk is aan METAL_ALUMINUM. Verplicht als 'Code verpakkingsmateriaal' gelijk is aan ‘COMPOSITE’ en het ‘Samengesteld verpakkingsmateriaal - Code verpakkingsmateriaal’ voor minstens één van de materiaalcomponenten ‘METAL_ALUMINUM’ is, en het gewicht van de ‘METAL_ALUMINUM’-componenten 50% of meer bedraagt van het totale gewicht van het samengestelde materiaal. | H9: NumberPicklist | I9: 1 | J9: 70 | K9: 3 | L9: 30 | N9: MeasurementUnitCode_GDSN | P9: No | S9: 9.4.0 | T9: packagingMaterialThickness | U9: Packaging material thickness | V9: The thickness of a packaging material. | W9: For all single aluminium packaging materials (METAL_ALUMINUM) specify the thickness of the packaging material. Example: single metal packaging material * Packaging type code: CNG (CAN). * Packaging material type code: METAL_ALUMINUM (Aluminium) * Packaging material thickness: 100 * Packaging material thickness UOM: 4H (Micrometre) For composite packaging materials (COMPOSITE or LAMINATED_CARTON) containing aluminium material components (METAL_ALUMINUM) with a weigth which is minimum 50% of the total weight of the composite packaging material, specify the thickness of the packaging material. Advice is to also use field 'Composite material detail packaging material thickness' to specify the thickness of the individual aluminium material components of the composite packaging material. Example: composite packaging material containing an aluminium material component * Packaging type code: BG (bag). * Packaging material code: COMPOSITE * Packaging material thickness: 120 * Packaging material thickness UOM: 4H (Micrometre) * Composite material detail packaging material type code: POLYMER_PE (Polyethylene (PE)) * Composite material detail packaging material type code: METAL_ALUMINUM (Aluminium) * Composite material detail packaging material thickness: 100 * Composite material detail packaging material thickness UOM: 4H (Micrometre) The recommended unit of measurement for specifying the thickness of the material is micrometres (4H). | X9: Mandatory if 'Packaging material type code' equals ‘METAL_ALUMINUM’. Mandatory if 'Packaging material type code' is 'COMPOSITE' and 'Composite material detail packaging material type code' is ‘METAL_ALUMINUM’ for at least one of the material components and the weight of the ‘METAL_ALUMINUM’ components is 50% or more of the total weight of composite material. | Y9: Packaging | Z9: /catalogue_item_notification:catalogueItemNotificationMessage/transaction/documentCommand/catalogue_item_notification:catalogueItemNotification/catalogueItem/tradeItem/tradeItemInformation/extension/*[namespace-uri()='urn:gs1:gdsn:packaging_information:xsd:3' and local-name()='packagingInformationModule']/packaging/packagingMaterial/packagingMaterialThickness | AC9: GDSN | AD9: S0026.3 | AE9: FF | AF9: 0.114 | AG9: 999 | AH9: Épaisseur du matériau | AI9: L'épaisseur du matériau d'emballage. | AJ9: Pour tous les matériaux d’emballage monocomposant en aluminium (METAL_ALUMINUM), l’épaisseur du matériau d’emballage doit être indiquée. Exemple: matériau mono en aluminium * Code du type d’emballage : CNG (canette) * Code de matériau d’emballage : METAL_ALUMINUM (Aluminium) * Épaisseur du matériau d’emballage: 100 * Unité de mesure de l’épaisseur du matériau d’emballage: 4H (Micromètre) Pour les matériaux d’emballage composites (COMPOSITE ou LAMINATED_CARTON) contenant des composants en aluminium (METAL_ALUMINUM) dont le poids représente au minimum 50 % du poids total du matériau composite, spécifier l’épaisseur du matériau d’emballage. Il est recommandé de spécifier également l’épaisseur de chaque composant aluminium du composite dans le champ 'Matériau d’emballage composite : Épaisseur'. Exemple: matériau composite contenant un composant en aluminium * Code du type d’emballage: BG (sachet) * Code de matériau d’emballage: COMPOSITE * Épaisseur du matériau d’emballage : 120 * Unité de mesure de l’épaisseur du matériau d’emballage : 4H (Micromètre) * Matériau d’emballage composite : Code du matériau d’emballage : POLYMER_PE (Polyéthylène (PE)) * Matériau d’emballage composite : Code du matériau d’emballage : METAL_ALUMINUM (Aluminium) * Matériau d’emballage composite : Épaisseur: 100 * Matériau d’emballage composite : Unité de mesure de l’épaisseur: 4H (Micromètre) L'unité de mesure recommandée est le micromètre (4H). | AK9: Obligatoire si 'Code de matériau d'emballage' est égal à 'METAL_ALUMINUM'. Obligatoire si le 'Code de matériau d'emballage' est égal à 'COMPOSITE' et si le 'Matériau d’emballage composite : Code du matériau d'emballage' est 'METAL_ALUMINUM' pour au moins un des composants matériels, et si le poids des composants 'METAL_ALUMINUM' représente 50 % ou plus du poids total du matériau composite. | AM9: 2218 | AO9: CHANGE-4107
A10: 0.119 | D10: Samengesteld verpakkingsmateriaal - Code verpakkingsmateriaal | E10: De materialen die voor de verpakking van het artikel zijn gebruikt, bijvoorbeeld glas of kunststof. Deze materiaalinformatie kan door data-afnemers worden gebruikt voor: - Berekening van belastingen/bijdragen/accijnzen. - Berekening/schatting van koolstofvoetafdruk (optimalisatie van hulpbronnen). - Het bepalen van het gebruikte materiaal. | F10: Bepaal voor elk samengesteld (composiet) verpakkingsmateriaal , uit welke verschillende materiaalcomponenten het is opgebouwd. Gebruik de codes ‘PLASTIC_BIO_PLASTIC’, ‘PLASTIC_OTHER’ of ‘PLASTIC_THERMOPLASTICS’ niet. Gebruik in plaats daarvan een van de POLYMER‑codes. Een samengesteld materiaal is een materiaal dat bestaat uit twee of meer verschillende materialen die, wanneer ze worden gecombineerd, eigenschappen hebben die verschillen van de afzonderlijke componenten. Deze afzonderlijke componenten kunnen niet mechanisch van elkaar gescheiden worden. Voorbeeld: * Code verpakkingstype: BG (zak) * Code verpakkingsmateriaal: COMPOSITE * Samengesteld verpakkingsmateriaal - Code verpakkingsmateriaal: POLYMER_PE (Polyethyleen (PE)) * Samengesteld verpakkingsmateriaal - Code verpakkingsmateriaal: METAL_ALUMINUM (Aluminium) | H10: Picklist | I10: 1 | J10: 80 | L10: GLASS | N10: PackagingMaterialTypeCode | P10: No | S10: 9.4.0 | T10: packagingMaterialTypeCode | U10: Composite material detail packaging material type code | V10: The materials used for the packaging of the trade item, for example glass or plastic. This material information can be used by data recipients for: - Tax calculations/fees/duties calculation - Carbon footprint calculations/estimations (resource optimisation) - To determine the material used. | W10: For each composite packaging material, list the different material components it consists of. Do not use codes ‘PLASTIC_BIO_PLASTIC’, ‘PLASTIC_OTHER’ or ‘PLASTIC_THERMOPLASTICS’. Use one of the POLYMER codes instead. A composite material is a material that is made of two or more different materials when combined, produce a material with characteristics different from the individual components. These individual components cannot be separated mechanically. Example: * Packaging type code: BG (bag) * Packaging material type code: COMPOSITE * Composite material detail packaging material type code: POLYMER_PE (Polyethylene (PE)) * Composite material detail packaging material type code: METAL_ALUMINUM (Aluminium) | Y10: Packaging | Z10: /catalogue_item_notification:catalogueItemNotificationMessage/transaction/documentCommand/catalogue_item_notification:catalogueItemNotification/catalogueItem/tradeItem/tradeItemInformation/extension/*[namespace-uri()='urn:gs1:gdsn:packaging_information:xsd:3' and local-name()='packagingInformationModule']/packaging/packagingMaterial/compositeMaterialDetail/packagingMaterialTypeCode | AC10: GDSN | AD10: S0026.7 | AE10: FF | AF10: 0.119 | AG10: 999 | AH10: Matériau d’emballage composite : Code du matériau d'emballage | AI10: Les matériaux utilisés pour l'emballage de l'article, par exemple du verre ou du plastique. Ces informations de matériaux peuvent être utilisées par des collecteurs de données pour: - Le calcul d'impôts/taxes/accises. - Le calcul/l'estimation de l'empreinte carbone (optimisation des ressources). - La détermination du matériau utilisé. | AJ10: Pour chaque matériau d’emballage composite (COMPOSITE ou LAMINATED_CARTON), specifiez les différents composants matériels qui le constituent. N’utilisez pas les codes PLASTIC_BIO_PLASTIC, PLASTIC_OTHER ou PLASTIC_THERMOPLASTICS. Utilisez l’un des codes POLYMER. Un matériau composite est un matériau constitué de deux ou plusieurs matériaux différents qui, une fois combinés, présentent des caractéristiques différentes de celles des composants individuels. Ces composants ne peuvent pas être séparés mécaniquement. Exemple: matériau composite * Code du type d’emballage: BG (sachet) * Code de matériau d’emballage: COMPOSITE * Matériau d’emballage composite : Code du matériau d’emballage: POLYMER_PE (Polyéthylène (PE)) * Matériau d’emballage composite : Code du matériau d’emballage: METAL_ALUMINUM (Aluminium) | AM10: 2237 | AO10: CHANGE-4107
A11: 0.121 | D11: Samengesteld verpakkingsmateriaal - Materiaaldikte | E11: De dikte van het verpakkingsmateriaal. | F11: Het advies is om de dikte in te voeren van de aluminiummateriaal-componenten (METAL_ALUMINUM) waaruit het samengestelde verpakkingsmateriaal is opgebouwd. Voorbeeld: samengesteld verpakkingsmateriaal dat een metalen materiaalcomponent bevat. * Code verpakkingstype: BG (zak) * Code verpakkingsmateriaal: COMPOSITE * Verpakkingsmateriaal dikte: 120 * Eenheid materiaaldikte: 4H (Micrometer) * Samengesteld verpakkingsmateriaal - Code verpakkingsmateriaal: POLYMER_PE (Polyethyleen (PE)) * Samengesteld verpakkingsmateriaal - Code verpakkingsmateriaal: METAL_ALUMINUM (Aluminium) * Samengesteld verpakkingsmateriaal - Materiaaldikte: 100 * Samengesteld verpakkingsmateriaal - Eenheid materiaaldikte: 4H (Micrometre) De aanbevolen meeteenheid voor het opgeven van de dikte van het materiaal is micrometer (4H). | H11: NumberPicklist | I11: 1 | J11: 70 | K11: 3 | L11: 30 (4H) | N11: MeasurementUnitCode_GDSN | P11: No | S11: 9.4.0 | T11: packagingMaterialThickness | U11: Composite Material detail packaging material thickness | V11: The thickness of a packaging material. | W11: Advice to enter the thickness of the aluminium material (METAL_ALUMINUM) components that make up the composite packaging material. Example: composite packaging material containing a metal material component * Packaging type code: BG (bag). * Packaging material code: COMPOSITE * Packaging material thickness: 120 * Packaging material thickness UOM: 4H (Micrometre) * Composite material detail packaging material type code: POLYMER_PE (Polyethylene (PE)) * Composite material detail packaging material type code: METAL_ALUMINUM (Aluminium) * Composite material detail packaging material thickness: 100 * Composite material detail packaging material thickness UOM: 4H (Micrometre) The recommended unit of measurement to specify the thickness of the material is micrometres (4H). | Y11: Packaging | Z11: /catalogue_item_notification:catalogueItemNotificationMessage/transaction/documentCommand/catalogue_item_notification:catalogueItemNotification/catalogueItem/tradeItem/tradeItemInformation/extension/*[namespace-uri()='urn:gs1:gdsn:packaging_information:xsd:3' and local-name()='packagingInformationModule']/packaging/packagingMaterial/compositeMaterialDetail/packagingMaterialThickness | AC11: GDSN | AD11: S0026.9 | AE11: FF | AF11: 0.119 | AG11: 999 | AH11: Emballage composite: épaisseur | AI11: L'épaisseur du matériau d'emballage. | AJ11: Il est recommandé de préciser l’épaisseur des composants en aluminium (METAL_ALUMINUM) qui constituent le matériau d’emballage composite. Exemple: matériau composite contenant un composant en aluminium * Code du type d’emballage: BG (sachet) * Code de matériau d’emballage: COMPOSITE * Épaisseur du matériau d’emballage : 120 * Unité de mesure de l’épaisseur du matériau d’emballage : 4H (Micromètre) * Matériau d’emballage composite : Code du matériau d’emballage : POLYMER_PE (Polyéthylène (PE)) * Matériau d’emballage composite : Code du matériau d’emballage : METAL_ALUMINUM (Aluminium) * Matériau d’emballage composite : Épaisseur: 100 * Matériau d’emballage composite : Unité de mesure de l’épaisseur: 4H (Micromètre) L'unité de mesure recommandée est le micromètre (4H). | AM11: 2240 | AO11: CHANGE-4107
A12: 0.124 | D12: Code grondstof in de verpakking | E12: Een code die het type grondstof of gerecycleerd materiaal beschrijft waarvan het verpakkingsmateriaal is gemaakt. | F12: Als een enkelvoudig (mono) verpakkingsmateriaal grondstoffen bevat van gerecycleerde oorsprong, selecteer dan de code ‘RECYCLED’ en specificeer het percentage gebruikte gerecycleerde grondstof in het veld ‘Percentage grondstof in de verpakking’. Als een enkelvoudig (mono) verpakkingsmateriaal kunststof grondstoffen van biologisch oorsprong bevat, selecteer dan de code ‘BIOLOGICAL_PLASTIC’ en specificeer het percentage gebruikte kunststof van biologisch oorsprong in het veld ‘Percentage grondstof in de verpakking’. Het is niet verplicht om informatie op te geven voor grondstof codes ‘CRUDE_OIL’ (Ruwe olie) en ‘NEW_RAW_MATERIAL_OTHER’ (Nieuwe grondstof overig). Green-Score: Wanneer GDSN wordt gebruikt om productinformatie te delen die vereist is voor het bereken van de Green-Score van een product conform de 'Green-Score' methodologie van het 'Green-Score Collective' is de volgende instructie van toepassing: Als je in het veld 'Code verpakkingsmateriaal' (packagingMaterialTypeCode) een van de volgende waarden hebt ingevuld: CORRUGATED_BOARD_DOUBLE_WALL, CORRUGATED_BOARD_OTHER, CORRUGATED_BOARD_SINGLE_WALL, CORRUGATED_BOARD_TRIPLE_WALL, PAPER_MOLDED_PULP, PAPER_OTHER, PAPER_PAPER, PAPER_PAPERBOARD, dan vul je de code 'RECYCLED' in het veld 'Code grondstof in de verpakking' (packagingRawMaterialCode) in. Raadpleeg de 'Handleiding aanlevering Green-Score gerelateerde product informatie' voor meer informatie over het delen van Green-Score relevante productinformatie in GDSN: https://www.gs1belu.org/nl/documentatie/handleiding-aanlevering-green-score-gerelateerde-product-informatie | G12: Verplicht wanneer product informatie die nodig is om de Green-Score van het product te berekenen of wanneer de herkomst van het verpakkingsmateriaal moet worden gedeeld. Verplicht voor NL doelmarkt als enkelvoudig verpakkingsmateriaal gerecycleerde grondstoffen of biogebaseerde kunststofgrondstoffen bevat. | H12: Picklist | I12: 1 | J12: 35 | L12: RECYCLED | N12: PackagingRawMaterialCode | P12: No | S12: 3.1.23 | T12: packagingRawMaterialCode | U12: Packaging raw material code | V12: A code describing the type of raw or recycled material the packaging material is made from. | W12: If a single (mono) packaging material contains raw materials of recycled origin, select code ‘RECYCLED’ and specify the % of recycled raw material used in field ‘Packaging raw material content percentage’. If a single (mono) packaging material contains plastic/polymer raw materials of bological origin, select code ‘BIOLOGICAL_PLASTIC’ and specify the % of plastic/polymer raw material of biological origin used in field ‘Packaging raw material content percentage’. It is not mandatory to supply information on raw materal codes ‘CRUDE_OIL’ nor ‘NEW_RAW_MATERIAL_OTHER’. Green-Score: In case GDSN is used to share product information required to calculate the product's Green-Score in line with the 'Green-Score' methodology of 'Green-Score Collective' the following instruction applies: If you filled out one of the values (CORRUGATED_BOARD_DOUBLE_WALL, CORRUGATED_BOARD_OTHER, CORRUGATED_BOARD_SINGLE_WALL, CORRUGATED_BOARD_TRIPLE_WALL, PAPER_MOLDED_PULP, PAPER_OTHER, PAPER_PAPER, PAPER_PAPERBOARD) in the field 'Packaging material type code' (packagingMaterialTypeCode), then also fill out the code value 'RECYCLED' in the field 'Packaging raw material code' (packagingRawMaterialCode). For more information on how to share Green-Score relevant information in GDSN check out 'Manual on the delivery of Green-Score related product information': https://www.gs1belu.org/en/documentation/manual-delivery-green-score-related-product-information | X12: Mandatory in case product information required to calculate the products Green-Score or when the origin of the packaging material must be shared. Mandatory for NL target market if mono packaging material contains recycled or biobased plastic raw materials. | Y12: Packaging | Z12: /catalogue_item_notification:catalogueItemNotificationMessage/transaction/documentCommand/catalogue_item_notification:catalogueItemNotification/catalogueItem/tradeItem/tradeItemInformation/extension/*[namespace-uri()='urn:gs1:gdsn:packaging_information:xsd:3' and local-name()='packagingInformationModule']/packaging/packagingMaterial/packagingRawMaterialInformation/packagingRawMaterialCode | AC12: GDSN | AD12: S0033-1 | AE12: FF | AF12: 0.124 | AG12: 999 | AH12: Code matière première de l'emballage | AI12: Un code décrivant le type de matériau brut ou recyclé à partir duquel le matériau d'emballage est fabriqué. | AJ12: Si un matériau d’emballage monocomposant (mono) contient des matières premières d’origine recyclée, sélectionnez le code 'RECYCLED' et indiquez le pourcentage de matière première recyclée utilisée dans le champ 'Pourcentage de la matière première dans l’emballage'. Si un matériau d’emballage monocomposant (mono) contient des matières premières d’origine plastique biosourcée, sélectionnez le code ' BIOLOGICAL_PLASTIC' et indiquez le pourcentage de matière première d’origine plastique biosourcée utilisée dans le champ 'Pourcentage de la matière première dans l’emballage'. Il n’est pas obligatoire de fournir des informations pour les codes de matières premières 'CRUDE_OIL' (Pétrole brut) et 'NEW_RAW_MATERIAL_OTHER' (Nouvelle matière première autre). Green-Score: Si GDSN est utilisé pour partager les informations des produits nécessaires au calcul de l'écoscore des produits conformément à la méthodologie 'Green-Score' du 'Collectif Green-Score', l'instruction suivante s'applique. Si le 'Code de type de matériau d'emballage' est égal à l'une des valeurs suivantes (CORRUGATED_BOARD_DOUBLE_WALL, CORRUGATED_BOARD_OTHER, CORRUGATED_BOARD_SINGLE_WALL, CORRUGATED_BOARD_TRIPLE_WALL, PAPER_MOLDED_PULP, PAPER_OTHER, PAPER_PAPER, PAPER_PAPERBOARD), l'attribut 'Code de matière première d'emballage' doit être complété par la valeur 'RECYCLED'. Pour plus d'informations sur la manière de partager les informations relatives à l'Green-Score dans le GDSN, consultez 'Manuel consacré à la fourniture des informations produits relatives au Green-score': https://www.gs1belu.org/fr/documentation/manuel-consacre-la-fourniture-des-informations-produits-relatives-au-green-score | AK12: Obligatoire dans le cas où les informations sur le produit sont nécessaires pour calculer le Green-Score du produit ou lorsque l'origine du matériau d'emballage doit être communiquée. Obligatoire pour le marché cible NL si le matériau d’emballage monocomposant (mono) contient des matières premières d’origine plastique biosourcée ou des matières premières recyclées. | AM12: 6306 | AO12: CHANGE-4113
A13: 0.125 | D13: Percentage grondstof in de verpakking | E13: Het percentage van het type grondstof waarvan het verpakkingsmateriaal is gemaakt. | F13: Voer het percentage in van de bijbehorende ‘Code grondstof in de verpakking'. Green-Score: Wanneer GDSN wordt gebruikt om productinformatie te delen die vereist is voor het bereken van de Green-Score van een product conform de 'Green-Score' methodologie van het 'Green-Score Collective' is de volgende instructie van toepassing. Wanneer 'Code grondstof in de verpakking' gelijk is aan 'RECYCLED', dient attribuut 'Percentage grondstof in de verpakking' ingevuld te worden. Vul het % gerecylceerd materiaal in dat werd gebruikt. Raadpleeg 'Handleiding aanlevering Green-Score gerelateerde product informatie' voor meer informatie over het delen van Green-Score relevante productinformatie in GDSN: https://www.gs1belu.org/nl/documentatie/handleiding-aanlevering-Green-Score-gerelateerde-product-informatie | G13: Verplicht wanneer product informatie die nodig is om de Green-Score van het product te berekenen of wanneer de herkomst van het verpakkingsmateriaal moet worden gedeeld. Verplicht voor NL doelmarkt als het veld 'Code grondstof in de verpakking' is ingevuld. | H13: Number | I13: 3 | J13: 70 | K13: 5 | L13: 55 | P13: No | R13: 0.124 | S13: 3.1.23 | T13: packagingRawMaterialContentPercentage | U13: Packaging raw material content percentage | V13: The percentage of the type of raw material the packaging material is made from. | W13: Enter the percentage of the associated 'Packaging raw material code'. Green-Score: In case GDSN is used to share product information required to calculate the product's Green-Score in line with the 'Green-Score' methodology of 'Green-Score Collective' the following instruction applies. If 'Packaging raw composite material code' equals 'RECYCLED', 'Packaging raw composite material content percentage' needs to be entered. Fill in the % of recycled material that is used. For more information on how to share Green-Score relevant information in GDSN check out 'Manual on delivery of Green-Score related product information': https://www.gs1belu.org/en/documentation/manual-delivery-green-score-related-product-information | X13: Mandatory in case product information required to calculate the products Green-Score or when the origin of the packaging material must be shared. Mandatory for NL target market if the field ‘Packaging raw material code’ is populated. | Y13: Packaging | Z13: /catalogue_item_notification:catalogueItemNotificationMessage/transaction/documentCommand/catalogue_item_notification:catalogueItemNotification/catalogueItem/tradeItem/tradeItemInformation/extension/*[namespace-uri()='urn:gs1:gdsn:packaging_information:xsd:3' and local-name()='packagingInformationModule']/packaging/packagingMaterial/packagingRawMaterialInformation/packagingRawMaterialContentPercentage | AC13: GDSN | AD13: S0033-2 | AE13: FF | AF13: 0.124 | AG13: 999 | AH13: Pourcentage de la teneur en type de matière première | AI13: Le pourcentage du type de matière première à partir duquel le matériau d'emballage est fabriqué. | AJ13: Indiquez le pourcentage correspondant au ‘Code de la matière première dans l’emballage’. Green-score: Si GDSN est utilisé pour partager les informations des produits nécessaires au calcul du Green-score des produits conformément à la méthodologie 'Green-score' du 'Collectif Green-score', l'instruction suivante s'applique. Si l'attribut 'Code de matière première d'emballage' est égal à 'RECYCLED', il faut également remplir l'attribut 'Pourcentage de la matière première dans l'emballage'. Indiquez le pourcentage de matériaux recyclés qui ont été utilisés. Pour plus d'informations sur la manière de partager les informations relatives au Green-score dans le GDSN, consultez 'Manuel consacré à la fourniture des informations produits relatives au Green-score': https://www.gs1belu.org/fr/documentation/manuel-consacre-la-fourniture-des-informations-produits-relatives-au-green-score | AK13: Obligatoire dans le cas où les informations sur le produit sont nécessaires pour calculer l'Green-Score du produit ou lorsque l'origine du matériau d'emballage doit être communiquée. Obligatoire pour le marché cible NL si le champ Code de la matière première dans l'emballage est renseigné. | AL13: Yes | AM13: 6307 | AO13: CHANGE-4113
